BEGIN:VCALENDAR
VERSION:2.0
PRODID:-//wp-events-plugin.com//7.2.3.1//EN
TZID:Europe/Berlin
X-WR-TIMEZONE:Europe/Berlin
BEGIN:VEVENT
UID:479@test-wp.tr-register.de
DTSTART;TZID=Europe/Berlin:20260612T180000
DTEND;TZID=Europe/Berlin:20260612T230000
DTSTAMP:20260109T125224Z
URL:https://test-wp.tr-register.de/veranstaltungen/clubtreffen-gruppe-ruhr
 gebiet-2-2026-06-05/
SUMMARY:Clubtreffen Gruppe Ruhrgebiet
DESCRIPTION:Jeden 1. oder 2. Freitag im Monat\nab 1800 Uhr in der\nZeche Sc
 herlebeck\n45701 Herten
CATEGORIES:Ruhrgebiet
LOCATION:Zeche Scherlebeck\, Scherlebecker Str. 262\, Herten\, NRW\, 45701\
 , Deutschland
X-APPLE-STRUCTURED-LOCATION;VALUE=URI;X-ADDRESS=Scherlebecker Str. 262\, He
 rten\, NRW\, 45701\, Deutschland;X-APPLE-RADIUS=100;X-TITLE=Zeche Scherleb
 eck:geo:0,0
END:VEVENT
BEGIN:VTIMEZONE
TZID:Europe/Berlin
X-LIC-LOCATION:Europe/Berlin
BEGIN:DAYLIGHT
DTSTART:20260329T030000
TZOFFSETFROM:+0100
TZOFFSETTO:+0200
TZNAME:CEST
END:DAYLIGHT
END:VTIMEZONE
END:VCALENDAR