BEGIN:VCALENDAR
VERSION:2.0
PRODID:-//wp-events-plugin.com//7.2.3.1//EN
TZID:Europe/Berlin
X-WR-TIMEZONE:Europe/Berlin
BEGIN:VEVENT
UID:559@test-wp.tr-register.de
DTSTART;TZID=Europe/Berlin:20260719T110000
DTEND;TZID=Europe/Berlin:20260719T140000
DTSTAMP:20260202T143733Z
URL:https://test-wp.tr-register.de/veranstaltungen/klassiker-und-kaffee-ba
 rsbuettel-2026-03-15-2026-04-19-2026-05-17-2026-06-21-2026-07-19/
SUMMARY:Klassiker und Kaffee Barsbüttel
DESCRIPTION:Jeden 3. Sonntag im Monat treffen wir uns mit verschiedenen Old
 timern aller Marken auf dem Parkplatz bei Miss PeppeR Amerikan Diner\n\nHa
 nskampring 1\n\n22885 Barsbüttel\n\nDirekt an der A 1\n\n
ATTACH;FMTTYPE=image/jpeg:https://test-wp.tr-register.de/wp-content/upload
 s/2026/02/HH_KlassikerKaffee.jpg
CATEGORIES:Hamburg,Klassiker &amp; Kaffee
END:VEVENT
BEGIN:VTIMEZONE
TZID:Europe/Berlin
X-LIC-LOCATION:Europe/Berlin
BEGIN:DAYLIGHT
DTSTART:20260329T030000
TZOFFSETFROM:+0100
TZOFFSETTO:+0200
TZNAME:CEST
END:DAYLIGHT
END:VTIMEZONE
END:VCALENDAR