BEGIN:VCALENDAR
VERSION:2.0
PRODID:-//wp-events-plugin.com//7.2.3.1//EN
TZID:Europe/Berlin
X-WR-TIMEZONE:Europe/Berlin
BEGIN:VEVENT
UID:565@test-wp.tr-register.de
DTSTART;TZID=Europe/Berlin:20260508T000000
DTEND;TZID=Europe/Berlin:20260509T000000
DTSTAMP:20260206T211130Z
URL:https://test-wp.tr-register.de/veranstaltungen/rund-um-berlinclassic-2
 026/
SUMMARY:Rund um BerlinClassic 2026
DESCRIPTION:https://test-wp.tr-register.de/rund_um_berlin_2026/
CATEGORIES:Sport-andere
END:VEVENT
BEGIN:VTIMEZONE
TZID:Europe/Berlin
X-LIC-LOCATION:Europe/Berlin
BEGIN:DAYLIGHT
DTSTART:20260329T030000
TZOFFSETFROM:+0100
TZOFFSETTO:+0200
TZNAME:CEST
END:DAYLIGHT
END:VTIMEZONE
END:VCALENDAR