BEGIN:VCALENDAR
VERSION:2.0
PRODID:-//wp-events-plugin.com//7.2.3.1//EN
TZID:Europe/Berlin
X-WR-TIMEZONE:Europe/Berlin
BEGIN:VEVENT
UID:319@test-wp.tr-register.de
DTSTART;TZID=Europe/Berlin:20260724T190000
DTEND;TZID=Europe/Berlin:20260724T230000
DTSTAMP:20251118T185004Z
URL:https://test-wp.tr-register.de/veranstaltungen/stammtisch-berlin-2-2-2
 -2026-01-23-2026-02-27-2026-03-27-2026-04-24-2026-05-22-2026-06-26-2026-07
 -24/
SUMMARY:Clubtreffen Hannover
DESCRIPTION:Wir treffen uns jeden 4. Freitag im Monat ab 18:30 Uhr im\n\nLa
 ndhaus am Golfpark\nHainhaus 24\n30855 Langenhagen\nlandhaus-am-golfpark
CATEGORIES:Hannover
END:VEVENT
BEGIN:VTIMEZONE
TZID:Europe/Berlin
X-LIC-LOCATION:Europe/Berlin
BEGIN:DAYLIGHT
DTSTART:20260329T030000
TZOFFSETFROM:+0100
TZOFFSETTO:+0200
TZNAME:CEST
END:DAYLIGHT
END:VTIMEZONE
END:VCALENDAR