BEGIN:VCALENDAR
VERSION:2.0
PRODID:-//wp-events-plugin.com//7.2.3.1//EN
TZID:Europe/Berlin
X-WR-TIMEZONE:Europe/Berlin
BEGIN:VEVENT
UID:197@test-wp.tr-register.de
DTSTART;TZID=Europe/Berlin:20260513T190000
DTEND;TZID=Europe/Berlin:20260513T220000
DTSTAMP:20250818T131841Z
URL:https://test-wp.tr-register.de/veranstaltungen/stammtisch-luebeck-2026
 -05-13/
SUMMARY:Stammtisch Lübeck
DESCRIPTION:Wir treffen uns zum Stammtisch jeden 2. Mittwoch im Monat ab 19
 :00 Uhr in der Eventbrauerei Golan
CATEGORIES:Lübeck
END:VEVENT
BEGIN:VTIMEZONE
TZID:Europe/Berlin
X-LIC-LOCATION:Europe/Berlin
BEGIN:DAYLIGHT
DTSTART:20260329T030000
TZOFFSETFROM:+0100
TZOFFSETTO:+0200
TZNAME:CEST
END:DAYLIGHT
END:VTIMEZONE
END:VCALENDAR