BEGIN:VCALENDAR
VERSION:2.0
PRODID:-//wp-events-plugin.com//7.2.3.1//EN
TZID:Europe/Berlin
X-WR-TIMEZONE:Europe/Berlin
BEGIN:VEVENT
UID:183@test-wp.tr-register.de
DTSTART;TZID=Europe/Berlin:20260618T183000
DTEND;TZID=Europe/Berlin:20260618T220000
DTSTAMP:20250817T170221Z
URL:https://test-wp.tr-register.de/veranstaltungen/stammtisch-nuernberg-20
 25-08-21-2025-09-18-2025-10-16-2025-11-20-2025-12-18-2026-01-15-2026-02-19
 -2026-03-19-2026-04-16-2026-05-21-2026-06-18/
SUMMARY:Stammtisch Nürnberg
DESCRIPTION:Stammtisch\n\nJeden 3. Donnerstag im Monat ab 18:30 Uhr.\n\nRis
 torante Pizzeria Le Castella\nMarienbergstr. 106\n90411 Nürnberg\nTel. 09
 11 / 54 01 93 33\nInternet www.lecastella.de
CATEGORIES:Nürnberg
END:VEVENT
BEGIN:VTIMEZONE
TZID:Europe/Berlin
X-LIC-LOCATION:Europe/Berlin
BEGIN:DAYLIGHT
DTSTART:20260329T030000
TZOFFSETFROM:+0100
TZOFFSETTO:+0200
TZNAME:CEST
END:DAYLIGHT
END:VTIMEZONE
END:VCALENDAR